BEGIN:VCALENDAR
VERSION:2.0
PRODID:-//Legacy Christian Academy - ECPv6.15.20//NONSGML v1.0//EN
CALSCALE:GREGORIAN
METHOD:PUBLISH
X-WR-CALNAME:Legacy Christian Academy
X-ORIGINAL-URL:https://lcakansascity.com
X-WR-CALDESC:Events for Legacy Christian Academy
REFRESH-INTERVAL;VALUE=DURATION:PT1H
X-Robots-Tag:noindex
X-PUBLISHED-TTL:PT1H
BEGIN:VTIMEZONE
TZID:America/Chicago
BEGIN:DAYLIGHT
TZOFFSETFROM:-0600
TZOFFSETTO:-0500
TZNAME:CDT
DTSTART:20250309T080000
END:DAYLIGHT
BEGIN:STANDARD
TZOFFSETFROM:-0500
TZOFFSETTO:-0600
TZNAME:CST
DTSTART:20251102T070000
END:STANDARD
BEGIN:DAYLIGHT
TZOFFSETFROM:-0600
TZOFFSETTO:-0500
TZNAME:CDT
DTSTART:20260308T080000
END:DAYLIGHT
BEGIN:STANDARD
TZOFFSETFROM:-0500
TZOFFSETTO:-0600
TZNAME:CST
DTSTART:20261101T070000
END:STANDARD
BEGIN:DAYLIGHT
TZOFFSETFROM:-0600
TZOFFSETTO:-0500
TZNAME:CDT
DTSTART:20270314T080000
END:DAYLIGHT
BEGIN:STANDARD
TZOFFSETFROM:-0500
TZOFFSETTO:-0600
TZNAME:CST
DTSTART:20271107T070000
END:STANDARD
END:VTIMEZONE
BEGIN:VEVENT
DTSTART;TZID=America/Chicago:20260311T090000
DTEND;TZID=America/Chicago:20260311T123000
DTSTAMP:20260425T102625
CREATED:20190504T135315Z
LAST-MODIFIED:20260109T031146Z
UID:6159-1773219600-1773232200@lcakansascity.com
SUMMARY:L2 Class Day
DESCRIPTION:L2 Class Day\n			\n			\n				\n				\n				\n				\n			\n				\n				\n			\n				\n				\n				\n				\n				\n				\n				\n				\n				\n				\n				\n				\n				\n				\n				\n				\n				\n				Please be sure to review any communication with your students’ teachers and the weekly E-News for all of the details. \n\n 
URL:https://lcakansascity.com/event/l2-class-day-7/
LOCATION:Foundry Church\, 8835 Lackman Rd\, Lenexa\, 66219
END:VEVENT
END:VCALENDAR