BEGIN:VCALENDAR
VERSION:2.0
PRODID:-//Legacy Christian Academy - ECPv6.15.20//NONSGML v1.0//EN
CALSCALE:GREGORIAN
METHOD:PUBLISH
X-ORIGINAL-URL:https://lcakansascity.com
X-WR-CALDESC:Events for Legacy Christian Academy
REFRESH-INTERVAL;VALUE=DURATION:PT1H
X-Robots-Tag:noindex
X-PUBLISHED-TTL:PT1H
BEGIN:VTIMEZONE
TZID:America/Chicago
BEGIN:DAYLIGHT
TZOFFSETFROM:-0600
TZOFFSETTO:-0500
TZNAME:CDT
DTSTART:20250309T080000
END:DAYLIGHT
BEGIN:STANDARD
TZOFFSETFROM:-0500
TZOFFSETTO:-0600
TZNAME:CST
DTSTART:20251102T070000
END:STANDARD
BEGIN:DAYLIGHT
TZOFFSETFROM:-0600
TZOFFSETTO:-0500
TZNAME:CDT
DTSTART:20260308T080000
END:DAYLIGHT
BEGIN:STANDARD
TZOFFSETFROM:-0500
TZOFFSETTO:-0600
TZNAME:CST
DTSTART:20261101T070000
END:STANDARD
BEGIN:DAYLIGHT
TZOFFSETFROM:-0600
TZOFFSETTO:-0500
TZNAME:CDT
DTSTART:20270314T080000
END:DAYLIGHT
BEGIN:STANDARD
TZOFFSETFROM:-0500
TZOFFSETTO:-0600
TZNAME:CST
DTSTART:20271107T070000
END:STANDARD
END:VTIMEZONE
BEGIN:VEVENT
DTSTART;VALUE=DATE:20260411
DTEND;VALUE=DATE:20260412
DTSTAMP:20260425T090359
CREATED:20240318T004502Z
LAST-MODIFIED:20260303T023225Z
UID:61007-1775865600-1775951999@lcakansascity.com
SUMMARY:LCA High School Prom
DESCRIPTION:LCA High School Prom\n			\n			\n				\n				\n				\n				\n			\n				\n				\n			\n				\n				\n				\n				\n				\n				\n				\n				\n				\n				\n				\n				\n				\n				\n				\n				\n				\n				April 11th\, 2026\, 6:30-9:30pm \n3rd Annual LCA High School Prom {Under the Sea Edition} \nEvent Space\, Cause Coffee in Desoto \n			\n				\n				\n				\n				\n				Details: Join fellow LCA High School students and friends for the 3 Annual LCA Prom! We will have music provided by the talented DJ\, Sandy Meo-Hall. She attends Foundry Church and will make this dance so much fun for our teens. A Photo Booth\, light snacks\, water and punch will be provided. \n			\n				\n				\n				\n				\n				Cost: Tickets are just $25 per student or $40 per couple \n			\n				\n				\n				\n				\n				Bring a date or friend! All LCA students are encouraged to invite a date or friend. Even if you student doesn’t want to dance\, this will be a great time with their friends\, so come one\, come all\, LCA! \n  \n*There will be parent chaperones present\, we want to make this a fun and safe evening for our teens! \n\n			\n				\n				\n				\n				\n				 
URL:https://lcakansascity.com/event/lca-high-school-prom/
LOCATION:Foundry Church\, 8835 Lackman Rd\, Lenexa\, 66219
END:VEVENT
END:VCALENDAR