BEGIN:VCALENDAR
VERSION:2.0
PRODID:-//Legacy Christian Academy - ECPv6.15.20//NONSGML v1.0//EN
CALSCALE:GREGORIAN
METHOD:PUBLISH
X-ORIGINAL-URL:https://lcakansascity.com
X-WR-CALDESC:Events for Legacy Christian Academy
REFRESH-INTERVAL;VALUE=DURATION:PT1H
X-Robots-Tag:noindex
X-PUBLISHED-TTL:PT1H
BEGIN:VTIMEZONE
TZID:America/Chicago
BEGIN:DAYLIGHT
TZOFFSETFROM:-0600
TZOFFSETTO:-0500
TZNAME:CDT
DTSTART:20250309T080000
END:DAYLIGHT
BEGIN:STANDARD
TZOFFSETFROM:-0500
TZOFFSETTO:-0600
TZNAME:CST
DTSTART:20251102T070000
END:STANDARD
BEGIN:DAYLIGHT
TZOFFSETFROM:-0600
TZOFFSETTO:-0500
TZNAME:CDT
DTSTART:20260308T080000
END:DAYLIGHT
BEGIN:STANDARD
TZOFFSETFROM:-0500
TZOFFSETTO:-0600
TZNAME:CST
DTSTART:20261101T070000
END:STANDARD
BEGIN:DAYLIGHT
TZOFFSETFROM:-0600
TZOFFSETTO:-0500
TZNAME:CDT
DTSTART:20270314T080000
END:DAYLIGHT
BEGIN:STANDARD
TZOFFSETFROM:-0500
TZOFFSETTO:-0600
TZNAME:CST
DTSTART:20271107T070000
END:STANDARD
END:VTIMEZONE
BEGIN:VTIMEZONE
TZID:UTC
BEGIN:STANDARD
TZOFFSETFROM:+0000
TZOFFSETTO:+0000
TZNAME:UTC
DTSTART:20250101T000000
END:STANDARD
END:VTIMEZONE
BEGIN:VEVENT
DTSTART;VALUE=DATE:20260210
DTEND;VALUE=DATE:20260211
DTSTAMP:20260425T105003
CREATED:20230206T175610Z
LAST-MODIFIED:20260119T220659Z
UID:60438-1770681600-1770767999@lcakansascity.com
SUMMARY:FT: Federal Reserve & Money Museum
DESCRIPTION:Federal Reserve & Money Museum\n			\n			\n				\n				\n				\n				\n			\n				\n				\n			\n				\n				\n				\n				\n				\n				\n				\n				\n				\n				\n				\n				\n				\n				\n				\n				\n				\n				Brief Description \nJoin fellow LCA families at The Federal Reserve & Money Museum! See how the Bank processes millions of dollars in currency each day\, lift a real gold bar\, view the historic Harry S. Truman coin collection and enjoy fun\, interactive exhibits while learning about the U.S. economy. \nAdmission is FREE. \n55 person limit \nFederal Reserve & Money Museum \n1 Memorial Drive \nKansas City\, Missouri 64198 \nTuesday\, February 10th\, 2026\, 1:00pm \nArrival: Plan to arrive 15 minutes prior to your scheduled time to allow for parking and to go through security.  \nAges: Open to all ages \nSecurity: All guests who are 18 years of age or older are required to present a valid photo ID \nAdmission Fees:  FREE \nDeadline to register for this field trip is\, February 2nd. \n**Your online registration is your 100% COMMITMENT to attend the field trip.  Unless you have illness or emergency\, we will see you there. Thank you for respecting the venue\, its employees\, and your fellow LCA families.   \n\n			\n				\n				\n				\n				\n				 
URL:https://lcakansascity.com/event/ft-federal-reserve-money-museum/
END:VEVENT
BEGIN:VEVENT
DTSTART;TZID=America/Chicago:20260211T124500
DTEND;TZID=America/Chicago:20260211T133000
DTSTAMP:20260425T105003
CREATED:20200111T181252Z
LAST-MODIFIED:20260209T184550Z
UID:7094-1770813900-1770816600@lcakansascity.com
SUMMARY:L1 & L2 Valentine's Day Box Party
DESCRIPTION:L1 & L2 Valentine’s Day Box Party\n			\n			\n				\n				\n				\n				\n			\n				\n				\n			\n				\n				\n				\n				\n				\n				\n				\n				\n				\n				\n				\n				\n				\n				\n				\n				\n				\n				Date: February 11th \nTime: 12:35pm-1:30pm \nWhere: Foundry Gym \nWho: All LCA families\, L1 families are welcome to attend as well! \nHere are the details on how the Valentine’s Day Box Party works: \n\nEach student participating needs to create\, decorate and bring a “mailbox” to receive valentine’s from other students in their grade group.  This can be as simple as coloring the outside of a paper bag or as ornate as the Titanic (see pictures of last year’s boxes below).  Make sure your student puts their name and grade group somewhere on their “mailbox”.\nEach student needs to bring enough Valentine cards for their grade group.  No need to address who each Valentine is for\, just have your student sign their name. \nStudents are welcome to attach candy to their Valentine’s\, but please keep in mind we have several students with peanut\, gluten and dairy allergies.\n\n			\n				\n				\n				\n				\n				*These grade group totals HAVE BEEN adjusted based on the RSVP’s received* \n  \n			\n				\n				\n				\n				\n				Preschool\, 3-5: 7 \nKindergarten:10 \n1st-3rd:  (we will make two groups\, since this is a large group. Plan for 20 Valentine’s) \n4th-6th: (we will make two groups\, since this is a large group. Plan for 20 Valentine’s) \n7th-8th: 18 \n9th-12th:18 \n			\n				\n				\n				\n				\n				\n 
URL:https://lcakansascity.com/event/l1-l2-valentines-day-party/
LOCATION:Foundry Church\, 8835 Lackman Rd\, Lenexa\, 66219
END:VEVENT
BEGIN:VEVENT
DTSTART;TZID=America/Chicago:20260218T090000
DTEND;TZID=America/Chicago:20260218T123000
DTSTAMP:20260425T105003
CREATED:20200111T180429Z
LAST-MODIFIED:20260109T024138Z
UID:7082-1771405200-1771417800@lcakansascity.com
SUMMARY:L1 Class Day
DESCRIPTION:L1 Class Day\n			\n			\n				\n				\n				\n				\n			\n				\n				\n			\n				\n				\n				\n				\n				\n				\n				\n				\n				\n				\n				\n				\n				\n				\n				\n				\n				\n				Please be sure to review any communication with your students’ teachers and the weekly E-News for all of the details.
URL:https://lcakansascity.com/event/l1-class-day-11/
LOCATION:Foundry Church\, 8835 Lackman Rd\, Lenexa\, 66219
END:VEVENT
BEGIN:VEVENT
DTSTART;TZID=America/Chicago:20260225T090000
DTEND;TZID=America/Chicago:20260225T123000
DTSTAMP:20260425T105003
CREATED:20230207T150036Z
LAST-MODIFIED:20260109T030931Z
UID:60460-1772010000-1772022600@lcakansascity.com
SUMMARY:L2 Class Day
DESCRIPTION:L2 Class Day\n			\n			\n				\n				\n				\n				\n			\n				\n				\n			\n				\n				\n				\n				\n				\n				\n				\n				\n				\n				\n				\n				\n				\n				\n				\n				\n				\n				Please be sure to review any communication with your students’ teachers and the weekly E-News for all of the details!
URL:https://lcakansascity.com/event/l2-class-day-24/
LOCATION:Foundry Church\, 8835 Lackman Rd\, Lenexa\, 66219
END:VEVENT
BEGIN:VEVENT
DTSTART;VALUE=DATE:20260227
DTEND;VALUE=DATE:20260228
DTSTAMP:20260425T105003
CREATED:20170726T220628Z
LAST-MODIFIED:20260113T000028Z
UID:3750-1772150400-1772236799@lcakansascity.com
SUMMARY:FT: Sea Life Aquarium
DESCRIPTION: \n \n \n \n \n \n \nJoin fellow LCA families as we visit the Sea Life Aquarium! \n \n\nSea Life Aquarium Kansas City is an interactive aquarium located at the Crown Center in Kansas City\, Missouri. The aquarium contains thousands of aquatic creatures\, plus interactive touch pools and a 360° ocean tunnel. \n\n \n\nBrief Description \nJoin fellow LCA families as we visit the Sea Life Aquarium!  \nSea Life Kansas City is an interactive aquarium located at the Crown Center in Kansas City\, Missouri. The aquarium contains thousands of aquatic creatures\, plus interactive touch pools and a 360° ocean tunnel. \nLimit: 55 people  \nSea Life Aquarium \n2475 Grand Boulevard\,  \nKansas City\, MO 64108 \nFriday\, February 27th\, 2023\, 10:00am \nArrival: Plan to arrive 15 minutes prior to your scheduled time to allow for parking and check-in.  \nAges: Open to all ages \nAdmission Fees: \nChildren under 2: FREE \nChildren 3-17: $8.00 \nAdults: $5.00 \n\n\nDeadline to register for this field trip is\,  Monday February 9th \nCommitment:  Your online registration is your commitment to attend the field trip.  Venues staff according to the number of people we tell them are coming.  Thank you for respecting the venue and helping maintain LCA’s good reputation in the community.  Unless you have an illness or emergency\, we will see you there!
URL:https://lcakansascity.com/event/ft-sea-life-aquarium/
LOCATION:Sea Life Aquarium\, 2475 Grand Blvd\, Kansas City\, MO\, 64108\, United States
END:VEVENT
END:VCALENDAR