BEGIN:VCALENDAR
VERSION:2.0
PRODID:-//Legacy Christian Academy - ECPv6.15.20//NONSGML v1.0//EN
CALSCALE:GREGORIAN
METHOD:PUBLISH
X-ORIGINAL-URL:https://lcakansascity.com
X-WR-CALDESC:Events for Legacy Christian Academy
REFRESH-INTERVAL;VALUE=DURATION:PT1H
X-Robots-Tag:noindex
X-PUBLISHED-TTL:PT1H
BEGIN:VTIMEZONE
TZID:UTC
BEGIN:STANDARD
TZOFFSETFROM:+0000
TZOFFSETTO:+0000
TZNAME:UTC
DTSTART:20250101T000000
END:STANDARD
END:VTIMEZONE
BEGIN:VTIMEZONE
TZID:America/Chicago
BEGIN:DAYLIGHT
TZOFFSETFROM:-0600
TZOFFSETTO:-0500
TZNAME:CDT
DTSTART:20250309T080000
END:DAYLIGHT
BEGIN:STANDARD
TZOFFSETFROM:-0500
TZOFFSETTO:-0600
TZNAME:CST
DTSTART:20251102T070000
END:STANDARD
BEGIN:DAYLIGHT
TZOFFSETFROM:-0600
TZOFFSETTO:-0500
TZNAME:CDT
DTSTART:20260308T080000
END:DAYLIGHT
BEGIN:STANDARD
TZOFFSETFROM:-0500
TZOFFSETTO:-0600
TZNAME:CST
DTSTART:20261101T070000
END:STANDARD
BEGIN:DAYLIGHT
TZOFFSETFROM:-0600
TZOFFSETTO:-0500
TZNAME:CDT
DTSTART:20270314T080000
END:DAYLIGHT
BEGIN:STANDARD
TZOFFSETFROM:-0500
TZOFFSETTO:-0600
TZNAME:CST
DTSTART:20271107T070000
END:STANDARD
END:VTIMEZONE
BEGIN:VEVENT
DTSTART;VALUE=DATE:20260302
DTEND;VALUE=DATE:20260310
DTSTAMP:20260425T090415
CREATED:20170102T010435Z
LAST-MODIFIED:20260225T162516Z
UID:3082-1772409600-1773100799@lcakansascity.com
SUMMARY:Re-Enrollment Open!
DESCRIPTION:2026-2027 Re-Enrollment\n			\n			\n				\n				\n				\n				\n			\n				\n				\n			\n				\n				\n				\n				\n				\n				\n				\n				\n				\n				\n				\n				\n				\n				\n				\n				\n				\n				\nRe-Enrollment for the 2026-2027 LCA school year begins today!\n\nRe-enrollment fee (per family) is $75.00.\nNursery children will continue to be included with Membership fees for families with at least one student in K-12th grade. These spaces are LIMITED\, however. \nDeadline to re-enroll is March 9th\, then new member enrollment opens for our waiting list. \nThe 2026-2027 LCA Calendar can be found HERE.\nStudent Registration (choosing the classes for your children) will likely begin in June\, however\, completing the Re-Enrollment Form and submitting the enrollment fee determines order of class choice for your students.\n\n\n\nReady to get started?  Visit the Current Member Enrollment page HERE!
URL:https://lcakansascity.com/event/re-enrollment-begins-today/
END:VEVENT
BEGIN:VEVENT
DTSTART;TZID=America/Chicago:20260304T090000
DTEND;TZID=America/Chicago:20260304T123000
DTSTAMP:20260425T090415
CREATED:20200112T015636Z
LAST-MODIFIED:20260109T024053Z
UID:7129-1772614800-1772627400@lcakansascity.com
SUMMARY:L1 Class Day
DESCRIPTION:L1 Class Day\n			\n			\n				\n				\n				\n				\n			\n				\n				\n			\n				\n				\n				\n				\n				\n				\n				\n				\n				\n				\n				\n				\n				\n				\n				\n				\n				\n				Please be sure to check e-news and any communications with your student’s teachers!
URL:https://lcakansascity.com/event/l1-class-day-12-2/
LOCATION:Foundry Church\, 8835 Lackman Rd\, Lenexa\, 66219
END:VEVENT
BEGIN:VEVENT
DTSTART;TZID=America/Chicago:20260311T090000
DTEND;TZID=America/Chicago:20260311T123000
DTSTAMP:20260425T090415
CREATED:20190504T135315Z
LAST-MODIFIED:20260109T031146Z
UID:6159-1773219600-1773232200@lcakansascity.com
SUMMARY:L2 Class Day
DESCRIPTION:L2 Class Day\n			\n			\n				\n				\n				\n				\n			\n				\n				\n			\n				\n				\n				\n				\n				\n				\n				\n				\n				\n				\n				\n				\n				\n				\n				\n				\n				\n				Please be sure to review any communication with your students’ teachers and the weekly E-News for all of the details. \n\n 
URL:https://lcakansascity.com/event/l2-class-day-7/
LOCATION:Foundry Church\, 8835 Lackman Rd\, Lenexa\, 66219
END:VEVENT
BEGIN:VEVENT
DTSTART;VALUE=DATE:20260312
DTEND;VALUE=DATE:20260313
DTSTAMP:20260425T090415
CREATED:20170306T064341Z
LAST-MODIFIED:20260210T175926Z
UID:3286-1773273600-1773359999@lcakansascity.com
SUMMARY:FT: Hallmark Visitor Center and Kaleidoscope
DESCRIPTION:  \nTHIS EVENT IS FULL\nBrief Description \nJoin fellow LCA families at  Hallmark Visitors Center and Kaleidoscope!  \nThe Hallmark Visitors Center is an educational interactive museum. It provides information and learning opportunities in Technology\, Engineering\, and Arts. Kaleidoscope is also an educational interactive area\, but focused on art and creation geared towards ages 14 and under. We will enter the Hallmark visitors center first followed by Kaleidoscope  \nAll ages are welcome and the price is FREE. \n45 person limit. \nHallmark Visitors Center \n2450 Grand Blvd \nKansas City\, MO 64108 \nThursday\, March 12th\, 2026\, 10:00am \nArrival: Plan to arrive 15 minutes prior to your scheduled time to allow for parking and check-in.  \nAges: Open to all ages \nAdmission Fees: \nAll: FREE \nDeadline to register for this field trip is\, March 2nd. \n\n\n \n\n\n\n 
URL:https://lcakansascity.com/event/kaleidescope-at-crown-center/
LOCATION:Kaleidescope: Crown Center\, 2500 Grand Blvd\, Kansas City\, MO\, 64108\, United States
END:VEVENT
BEGIN:VEVENT
DTSTART;VALUE=DATE:20260313
DTEND;VALUE=DATE:20260315
DTSTAMP:20260425T090415
CREATED:20250120T203448Z
LAST-MODIFIED:20260227T002337Z
UID:61359-1773360000-1773532799@lcakansascity.com
SUMMARY:LCA Moms' Refresh Retreat
DESCRIPTION:When: March 13th & 14th \nWhere: Tann Ranch\, Olathe\, KS \nDetails: Join us for a refreshing weekend at our 2nd annual Refresh Retreat! Legacy is always celebrating building community\, and we’re excited to offer moms another chance to deepen friendships and create new connections. Don’t miss out on this special opportunity to relax\, recharge\, and bond with fellow LCA moms! \nHere is a tentative schedule: \nFriday: \n4pm-6pm arrival at Tann Ranch \n6pm: Dinner \n7pm: Session One (speaker: Liz Mains) \n8pm: Dessert and Community Hour \n9pm: free time/relax time/dance party \nSaturday: \n7am-8am Coffee & Chat (arrival-for those not spending the night) \n8am: Breakfast/Clean up \n9:30am: Session Two (worship\, then speaker: Johanna Gelatt) \nFree time until lunch (enjoy walking the property\, relaxing\, visiting with friends\, etc.) \n12pm: Lunch \n1pm: Session Three (Speaker: Johanna Gelatt) \n3pm: Pack up/Clean up \n  \nOvernight Option: There are a limited number of sleeping quarters for those choosing the overnight option. These are shared bedrooms with full bathrooms in each space. \nDessert Challenge: Calling all baking moms! Bring your best dessert on Friday for a fun and friendly competition. The top three treats will win exciting prizes! Let the sweet rivalry begin! \nRoom Hosts: Love hospitality? We need you! We’re looking for a “Room Host” for each bedroom. As a host\, you can choose a theme for your space\, bring a small treat to share with your roommates\, and create a warm\, inviting atmosphere. It’s your chance to make the room feel extra special! \nCost: Only $65! This includes three meals\, crewneck sweatshirt and craft. Space is limited! \nRegistration Details: Registration and payment deadline is March 2nd.
URL:https://lcakansascity.com/event/lca-moms-refresh-retreat/
LOCATION:Tann Ranch\, Olathe\, KS\, United States
END:VEVENT
BEGIN:VEVENT
DTSTART;TZID=America/Chicago:20260318T090000
DTEND;TZID=America/Chicago:20260318T123000
DTSTAMP:20260425T090415
CREATED:20190101T011259Z
LAST-MODIFIED:20260216T130926Z
UID:5431-1773824400-1773837000@lcakansascity.com
SUMMARY:L1 Class Day and Favorite Character Day
DESCRIPTION:L1 Class Day & Favorite Character Day\n			\n			\n				\n				\n				\n				\n			\n				\n				\n			\n				\n				\n				\n				\n				\n				\n				\n				\n				\n				\n				\n				\n				\n				\n				\n				\n				\n				Please be sure to review any communication with your students’ teachers and the Class Day Coordinator for all of the details! \n  \nToday is Favorite Character Day!  Students and parents alike are invited to come dressed up as your favorite character. \n\n 
URL:https://lcakansascity.com/event/l2-class-day-and-favorite-character-day/
LOCATION:Foundry Church\, 8835 Lackman Rd\, Lenexa\, 66219
END:VEVENT
BEGIN:VEVENT
DTSTART;TZID=UTC:20260325T090000
DTEND;TZID=UTC:20260325T123000
DTSTAMP:20260425T090415
CREATED:20180221T210013Z
LAST-MODIFIED:20260216T131102Z
UID:4475-1774429200-1774441800@lcakansascity.com
SUMMARY:L2 Class Day and Favorite Character Day!
DESCRIPTION:L2 Class Day & Favorite Character Day\n			\n			\n				\n				\n				\n				\n			\n				\n				\n			\n				\n				\n				\n				\n				\n				\n				\n				\n				\n				\n				\n				\n				\n				\n				\n				\n				\n				Please be sure to review any communication with your students’ teachers and the Class Day Coordinator for all of the details! \n  \nToday is Favorite Character Day!  Students and parents alike are invited to come dressed up as your favorite character. \n\n 
URL:https://lcakansascity.com/event/class-day-and-favorite-character-day/
LOCATION:Foundry Church\, 8835 Lackman Rd\, Lenexa\, 66219
END:VEVENT
BEGIN:VEVENT
DTSTART;VALUE=DATE:20260326
DTEND;VALUE=DATE:20260327
DTSTAMP:20260425T090415
CREATED:20260224T023854Z
LAST-MODIFIED:20260303T024546Z
UID:61991-1774483200-1774569599@lcakansascity.com
SUMMARY:FT: Harry S. Truman Presidential Library & Museum
DESCRIPTION:FT: Harry S. Truman Library\n			\n			\n				\n				\n				\n				\n			\n				\n				\n			\n				\n				\n				\n				\n				\n				\n				\n				\n				\n				\n				\n				\n				\n				\n				\n				\n				\n				Only eight tickets remain\, email Liz directly to reserve. \n \nBrief Description \nJoin fellow LCA families for a tour of the Harry S. Truman Presidential Library & Museum! \nThe Harry S. Truman Presidential Library & Museum was established in 1957. The museum and Library preserve and provide access to President Truman’s historical materials through exhibits and programs. \nAll ages are welcome. Children are FREE.  Adults are $5. \n50 person limit \nHarry S.  Truman Presidential Library & Museum  \n500 W US Hwy 24\, \nIndependence\, Missouri 64050 \nThursday\, March 26th\, 2026\, 9:30am \nArrival: Plan to arrive 15 minutes prior to your scheduled time to allow for parking and check-in.  \nAges: Open to all ages \nAdmission Fees: \nChildren: FREE \nAdults: $5
URL:https://lcakansascity.com/event/ft-harry-s-truman-presidential-library-museum/
LOCATION:Truman Museum\, 500 W US Hwy 24\, Independence\, 64050\, United States
END:VEVENT
END:VCALENDAR